BEGIN:VCALENDAR
VERSION:2.0
PRODID:-//eventon.com NONSGML v1.0//EN
CALSCALE:GREGORIAN
METHOD:PUBLISH
BEGIN:VEVENT
UID:69e749214c5cd
DTSTAMP:20260421T115337
DTSTART:20260529T163000Z
DTEND:20260529T235900Z
TZID:Europe/Berlin
LOCATION:
SUMMARY:Europäischer Nabarschaftstag
DESCRIPTION:Anmeldung Im Rahmen des Europäischen Nachbarschaftstag wollen wir gemeinsam Grillen. Geplant ist auch ein Auftritt des Schulchores der Grundschule Vinnhorst. Im Anschluss laden wir dann alle Teilnehmer ein\,  unsere RathausLive Veranstaltung zu besuchen. Nähere Informationen und die genaue Uhrzeit folgen in Kürze.\nhttps://kultur-in-vinnhorst.de/events/europaeischer-nabarschaftstag/
URL:https://kultur-in-vinnhorst.de/events/europaeischer-nabarschaftstag/
END:VEVENT
END:VCALENDAR