BEGIN:VCALENDAR
VERSION:2.0
PRODID:-//eventon.com NONSGML v1.0//EN
CALSCALE:GREGORIAN
METHOD:PUBLISH
BEGIN:VEVENT
UID:69e58e8720791
DTSTAMP:20260420T042511
DTSTART:20260623T150000Z
DTEND:20260623T163000Z
TZID:Europe/Berlin
LOCATION:
SUMMARY:Kreativ-Kurs - "Malen für die Seele"
DESCRIPTION:Anmeldung Wir freuen uns\,  wieder einen Malkurs im Programm zu haben. Unter dem Motto &#8222;Malen für die Seele&#8220; laden wir euch herzlich ein\,  kreativ zu sein. Der Kurs besteht aus vier Terminen: Dienstag 2. Juni\,  9. Juni\,  16. Juni und 23. Juni 2026 Die Kursgebühr beträgt 48 € für Nichtmitglieder[..]\nhttps://kultur-in-vinnhorst.de/events/kreativ-kurs-malen-fuer-die-seele/var/ri-3.l-L1
URL:https://kultur-in-vinnhorst.de/events/kreativ-kurs-malen-fuer-die-seele/var/ri-3.l-L1
END:VEVENT
END:VCALENDAR