BEGIN:VCALENDAR
VERSION:2.0
PRODID:-//eventon.com NONSGML v1.0//EN
CALSCALE:GREGORIAN
METHOD:PUBLISH
BEGIN:VEVENT
UID:69e7896faaf48
DTSTAMP:20260421T162759
DTSTART:20211005T180000Z
DTEND:20211005T200000Z
TZID:Europe/Berlin
LOCATION:
SUMMARY:Kreativ-Workshop „Flamingo“
DESCRIPTION:Die Kulturgemeinschaft Vinnhorst e. V. bietet an zwei Abenden\,  am Dienstag\,  den 05.10. und Mittwoch\, &nbsp;&nbsp;den 06.10.2021 von 18 bis ca. 20 Uhr&nbsp; einen Malkurs an. Unter Anleitung von Lars Brandes werden Bilder in Öl gemalt. Herr Brandes hat bereits mehrere Kurse in der Ölmalerei für die Kulturgemeinschaft Vinnhorst geleitet und[..]\nhttps://kultur-in-vinnhorst.de/events/kreativ-workshop-flamingo/
URL:https://kultur-in-vinnhorst.de/events/kreativ-workshop-flamingo/
END:VEVENT
END:VCALENDAR