BEGIN:VCALENDAR
VERSION:2.0
PRODID:-//eventon.com NONSGML v1.0//EN
CALSCALE:GREGORIAN
METHOD:PUBLISH
BEGIN:VEVENT
UID:69e6a5c660e4d
DTSTAMP:20260421T001638
DTSTART:20210710T140000Z
DTEND:20210710T235000Z
TZID:Europe/Berlin
LOCATION:
SUMMARY:Bosseln & Besuch beim Baum des Jahres 2014
DESCRIPTION:Am Samstag\,  den 10.07.2021 wird bei der Kulturgemeinschaft Vinnhorst e. V. gebosselt! Treffpunkt ist um 14 Uhr auf dem Parkplatz am Mecklenheider Forst. Von dort an wird in gemischten Gruppen Richtung Kinderwald gebosselt. Im Kinderwald angekommen\,  werden wir einen Abstecher zu unserem Baum des Jahres\,  der Traubeneiche machen\,  die wir[..]\nhttps://kultur-in-vinnhorst.de/events/bosseln-besuch-beim-baum-des-jahres-2014/
URL:https://kultur-in-vinnhorst.de/events/bosseln-besuch-beim-baum-des-jahres-2014/
END:VEVENT
END:VCALENDAR